BEGIN:VCALENDAR
VERSION:2.0
PRODID:-//Bonn Club Potsdam - ECPv6.15.20//NONSGML v1.0//EN
CALSCALE:GREGORIAN
METHOD:PUBLISH
X-WR-CALNAME:Bonn Club Potsdam
X-ORIGINAL-URL:https://bonn-club-potsdam.de
X-WR-CALDESC:Veranstaltungen für Bonn Club Potsdam
REFRESH-INTERVAL;VALUE=DURATION:PT1H
X-Robots-Tag:noindex
X-PUBLISHED-TTL:PT1H
BEGIN:VTIMEZONE
TZID:UTC
BEGIN:STANDARD
TZOFFSETFROM:+0000
TZOFFSETTO:+0000
TZNAME:UTC
DTSTART:20250101T000000
END:STANDARD
END:VTIMEZONE
BEGIN:VEVENT
DTSTART;TZID=UTC:20260508T140000
DTEND;TZID=UTC:20260508T190000
DTSTAMP:20260425T120147
CREATED:20260309T180544Z
LAST-MODIFIED:20260309T185207Z
UID:972-1778248800-1778266800@bonn-club-potsdam.de
SUMMARY:8.Mai 2026 das Potsdamer Europafest
DESCRIPTION:8.Mai 2026 das Potsdamer Europafest von 14 – 20 Uhr am Alten Markt. \nBonn-Club Stand ab 14 – 17 Uhr besetzt. \nVorstellung des Begegnungstreffen vom 1.10.- 4.10.26 in Bonn\nin Planung\n– Besuch Beethovenhalle\n– Führung Posttower\n– Besuch Veranstaltung der Konrad-Adenauer-Stiftung
URL:https://bonn-club-potsdam.de/event/8-mai-2026-fuer-das-potsdamer-europafest/
END:VEVENT
BEGIN:VEVENT
DTSTART;TZID=UTC:20260515T170000
DTEND;TZID=UTC:20260515T190000
DTSTAMP:20260425T120147
CREATED:20260309T184909Z
LAST-MODIFIED:20260309T185036Z
UID:987-1778864400-1778871600@bonn-club-potsdam.de
SUMMARY:Max Liebermann und der Impressionismus in Deutschland
DESCRIPTION:Führung 15.05.26 nachmittags 17 Uhr  in Planung \n\nMax Liebermann als Wegbereiter für den neuen Malstil des deutschen Impressionismus.\nKosten ca. 15\,00 EUR\n\nAnmeldungen unter: philiprosin@web.de\, Lutz.Conrad@web.de
URL:https://bonn-club-potsdam.de/event/max-liebermann/
END:VEVENT
BEGIN:VEVENT
DTSTART;TZID=UTC:20260717T140000
DTEND;TZID=UTC:20260717T160000
DTSTAMP:20260425T120147
CREATED:20260309T183534Z
LAST-MODIFIED:20260309T183534Z
UID:981-1784296800-1784304000@bonn-club-potsdam.de
SUMMARY:Wannseekonferenz
DESCRIPTION:Führung Gedenkstätte  Wannsee-Konferenz in Planung Juli \n  \n 
URL:https://bonn-club-potsdam.de/event/wannseekonferenz/
END:VEVENT
BEGIN:VEVENT
DTSTART;VALUE=DATE:20261001
DTEND;VALUE=DATE:20261005
DTSTAMP:20260425T120147
CREATED:20260309T185701Z
LAST-MODIFIED:20260311T080938Z
UID:992-1790812800-1791158399@bonn-club-potsdam.de
SUMMARY:Begegnungstreffen 1.10. - 4.10.26 in Bonn
DESCRIPTION:in Planung \n1.10.26\nAnreise nach Bonn individuell. \n2.10.26\nBesuch Posttower.\nFestkonzert. \n3.10.26\nBesuch des Empfangs der Oberbürgermeisterin in Bonn.\nBesuch der Beethovenhalle und Veranstaltung in der Konrad – Adenauer – Stiftung. \n4.10.26\nAbreise nach Potsdam individuell. \nAnfragen/Anmeldung\nan: Dr. Philip Rosin philiprosin@web.de\nLutz Conrad lutz.conrad@web.de \n  \n 
URL:https://bonn-club-potsdam.de/event/begegnungstreffen-1-10-4-01-26-in-bonn/
END:VEVENT
BEGIN:VEVENT
DTSTART;TZID=UTC:20261128T180000
DTEND;TZID=UTC:20261128T193000
DTSTAMP:20260425T120147
CREATED:20260309T175940Z
LAST-MODIFIED:20260309T175940Z
UID:969-1795888800-1795894200@bonn-club-potsdam.de
SUMMARY:Europäische Filmwoche im Thalia Kino
DESCRIPTION:Samstag\, 28.11.2026 ca. 18 Uhr\nBonn-Club Potsdam\nFilm: DER GETEILTE HIMMEL \nLiteraturverfilmung von Konrad Wolf aus dem Jahr 1964.
URL:https://bonn-club-potsdam.de/event/europaeische-filmwoche-im-thalia-kino/
END:VEVENT
END:VCALENDAR